BEGIN:VCALENDAR
VERSION:2.0
PRODID:-//HIMALAYAN MONK RIDERS ASSOCIATION - ECPv6.15.17.1//NONSGML v1.0//EN
CALSCALE:GREGORIAN
METHOD:PUBLISH
X-WR-CALNAME:HIMALAYAN MONK RIDERS ASSOCIATION
X-ORIGINAL-URL:https://motohimalayas.com
X-WR-CALDESC:Events for HIMALAYAN MONK RIDERS ASSOCIATION
REFRESH-INTERVAL;VALUE=DURATION:PT1H
X-Robots-Tag:noindex
X-PUBLISHED-TTL:PT1H
BEGIN:VTIMEZONE
TZID:Asia/Kolkata
BEGIN:STANDARD
TZOFFSETFROM:+0530
TZOFFSETTO:+0530
TZNAME:IST
DTSTART:20190101T000000
END:STANDARD
END:VTIMEZONE
BEGIN:VEVENT
DTSTART;TZID=Asia/Kolkata:20200214T000000
DTEND;TZID=Asia/Kolkata:20200217T150000
DTSTAMP:20260421T045738
CREATED:20190421T103033Z
LAST-MODIFIED:20190421T103033Z
UID:5873-1581638400-1581951600@motohimalayas.com
SUMMARY:HIMALAYAN YOGA RETREAT | BAROT | 3N4D | FEBRUARY 2020 | FD
DESCRIPTION:[vc_row full_width=”stretch_row” css=”.vc_custom_1515961548057{background-color: #ffbd42 !important;}”][vc_column][vc_custom_heading text=”From how long you had been thinking about getting introduced to the basics of ancient techniques of Yoga & Meditation!\nHow about having an experience of learning and practicing the ways to connect to your soul\, environment and the universe at a destination so calm\,serene and full of nature that spirituality comes naturally to the one just by being there!” font_container=”tag:h1|text_align:center” css_animation=”slideInRight”][/vc_column][/vc_row][vc_row full_width=”stretch_row” css=”.vc_custom_1515964135940{background-color: #64695e !important;}”][vc_column][vc_column_text css_animation=”slideInLeft”]\nWay to a happy and successful life goes through the healthy body and mind!\nYoga is one of  the most effective and ancient way of achieving healthy body & mind.\nWhile many of you already be practicing different kind of diets\, exercises or even yoga on a routine basis still it can be totally different to learn or practice it in the open virgin wilds of remote Himalayas rather than closed rooms of cities!\nIn this 3 night 4 day outdoor yoga retreat we bring to you the very basics of Yoga in the midst of wilderness of Barot in Mandi\, where your mind and body will receive it the best and results will be surprising. Trust us!\nBarot at around 6000 ft ASL\, a part of the Uhl river valley\, is a small village situated in the Mandi district of Himachal Pradesh. Considered to be a diamond among the rough terrains\, Barot Valley was initially developed for a hydel project over the Uhl river that has now become a rising tourist spot for travelers who have a longing for mountains. \nCome let us take you into a very special journey within yourself and the universe!\n[/vc_column_text][/vc_column][/vc_row][vc_row full_width=”stretch_row” css=”.vc_custom_1515964197690{background-color: #ffbd42 !important;}”][vc_column width=”1/3″][info_list_father][info_list_son style=”icon” titleclr=”#000000″ descclr=”#000000″ icon=”fa fa-map-marker” title=”Region” desc=”BAROT\, BAROT VALLEY\, MANDI\, HIMACHAL PRADESH\, INDIA\, EARTH”][/info_list_father][/vc_column][vc_column width=”1/3″][info_list_father][info_list_son style=”icon” titleclr=”#000000″ descclr=”#000000″ icon=”fa fa-spinner” title=”Duration” desc=”3 NIGHTS & 4 DAYS”][/info_list_father][/vc_column][vc_column width=”1/3″][info_list_father][info_list_son style=”icon” titleclr=”#000000″ descclr=”#000000″ icon=”fa fa-signal” title=”Level” desc=”BEGINNERS”][/info_list_father][/vc_column][vc_column][vc_video link=”https://youtu.be/qDHpKQiAYQ8″ align=”center” title=”AN EXCERPT OF HIMALAYAN YOGA RETREAT”][/vc_column][/vc_row][vc_row full_width=”stretch_row” css=”.vc_custom_1515964329657{background-color: #64695e !important;}”][vc_column][vc_custom_heading text=”DAY BY DAY PLAN” font_container=”tag:h1|text_align:center|color:%23ffbd42″][mvc_timeline_father title=” Day By Day Plan” size=”38″ clr=”#000000″ bgclr=”#ffbd42″][mvc_timeline_son date=”DAY 1″ size=”20″ clr=”#dd9933″ arrowclr=”#ffbd42″ icon=”fa fa-leaf” bgclr=”#ffbd42″]\nDay 1  | Introduction to Barot & Spirituality\n Arrive in Barot\n Check in to twin sharing luxury swiss camp\n Meet our yoga expert for an introductory yoga session after lunch\n Tea/Coffee\, Snacks\n Dinner followed by debrief \n Overnight stay in rooms\n[/mvc_timeline_son][mvc_timeline_son date=”DAY 2″ clr=”#ffbd42″ arrowclr=”#ffbd42″ icon=”fa fa-leaf” bgclr=”#ffbd42″]\nDay 2 | UNWIND & MEDITATE \n Wake up – Morning Meditation\n Tea\n Breakfast at home stay followed by Asana session\n Group discussion followed by local lunch\n Tea/Coffee\, Snacks\n Dinner followed by meditation\n Overnight Stay in camp\n[/mvc_timeline_son][mvc_timeline_son date=”DAY 3″ clr=”#ffbd42″ arrowclr=”#ffbd42″ icon=”fa fa-leaf” bgclr=”#ffbd42″]\n Day 3| SILENT JUNGLE WALK & CAMPING UNDER THE STARS\n Morning Meditation\n Tea followed by Asana Class\n Breakfast\n Today we walk to a beautiful secluded location in the wild near a waterfall\n Have lunch witnessing some unbelievable vistas of Barot Valley\n Meditation session nearby to a small glacial water stream\n Tea/Coffee\, Bonfire\, Snacks while litsening to the stories of ancient yogis & yogic life under the stars followed by dinner\n Overnight Stay in the camp under the million stars\n[/mvc_timeline_son][mvc_timeline_son date=”Day 4″ clr=”#ffbd42″ arrowclr=”#ffbd42″ icon=”fa fa-leaf” bgclr=”#ffbd42″]\n Day 4| FINAL WISDOM & RETURN\n Morning meditation and Asana class \n Breakfast with amazing views of Barot valley\n Optional one to one session followed by lunch\n Our services end here\, start your return journey\n[/mvc_timeline_son][/mvc_timeline_father][/vc_column][/vc_row][vc_row css=”.vc_custom_1555795168007{background-color: #ffbd42 !important;}”][vc_column][vc_separator][vc_custom_heading text=”PACKAGE COSTS & INCLUSIONS APPLICABLE FOR ALL GENDERS AND NATIONALITY”][vc_separator]BEST PER PERSON PACKAGE COST X-BAROTFOR THOSE WHO WANT TO BOOK THE PACKAGE WITHOUT TRANSPORTATION TILL BAROT AND BACK\n₹ 9\,500 \nBEST PER PERSON PACKAGE COST X-DELHIFOR THOSE WHO WANT TO BOOK THE PACKAGE INCLUDING TRANSPORTATION FROM DELHI\n₹ 14\,500 \n[vc_message css=”.vc_custom_1555841446727{background-color: #64695e !important;}”]\n✔️INCLUSIONS\n AC Luxury bus tickets from Delhi to Joginder Nagar & back\, private taxi from Joginder Nagar to Barot and back for X-Delhi package\n Twin sharing stay in premium home stay room for 2 nights and in imported tent for 1 night\n Unlimited Satvik meals as per yoga instructor (without onion & garlic\, low on oil & spices)\n A vastly experienced Yoga Expert to guide you in Yoga & Meditation sessions\n A local certified guide to manage the program\, sessions and camping\n\n All kind of permits and fees for the sessions and camping\n All quality camping equipment including camp furniture\, camp grill and yoga mat\n Preparation assistance\, exclusive checklists\, specific Adventure Consultant till the end of trip\n GST (taxes)\n Preparation assistance\, exclusive checklists\, on call trip consultant \n Life changing experience\n\n❌EXCLUSIONS\nAnything not mentioned in the inclusions above[/vc_message][/vc_column][/vc_row][vc_row full_width=”stretch_row” parallax=”content-moving” parallax_image=”4643″ css=”.vc_custom_1555797255815{background-color: rgba(255\,255\,255\,0.31) !important;*background-color: rgb(255\,255\,255) !important;}”][vc_column css=”.vc_custom_1516000838434{background-color: rgba(255\,255\,255\,0.31) !important;*background-color: rgb(255\,255\,255) !important;}”]\n	Notice: JavaScript is required for this content.\n\n\n    \n\n\n        \n        \n        [/vc_column][/vc_row]
URL:https://motohimalayas.com/rides/himalayan-yoga-retreat-barot-february-2020/
LOCATION:Barot\, Camp Stone Age\, \, Barot\, Himachal Pradesh\, 175013\, India
CATEGORIES:FEBRUARY,HIMACHAL PRADESH,REGIONS
ATTACH;FMTTYPE=image/jpeg:https://motohimalayas.com/wp-content/uploads/2019/04/WhatsApp-Image-2019-04-21-at-3.08.32-PM-1.jpeg
ORGANIZER;CN="HMRA - CAMPING":MAILTO:camping@motohimalayas.com
END:VEVENT
BEGIN:VEVENT
DTSTART;TZID=Asia/Kolkata:20200215T000000
DTEND;TZID=Asia/Kolkata:20200217T120000
DTSTAMP:20260421T045738
CREATED:20200116T120943Z
LAST-MODIFIED:20200116T134541Z
UID:6796-1581724800-1581940800@motohimalayas.com
SUMMARY:HIMALAYAN BIRD WATCHING | GREAT HIMALAYAN NATIONAL PARK | HP | FD | 15 FEB 2020
DESCRIPTION:[vc_row full_width=”stretch_row” css=”.vc_custom_1515961548057{background-color: #ffbd42 !important;}”][vc_column][vc_custom_heading text=”Are you a wild life or bird lover?\nThen you just should not miss this 2 nights 3 days quick program in the eco zone of Great Himalayan National Park \, a UNESCO world heritage site in Himalayas of Himachal Pradesh\, India” font_container=”tag:h1|text_align:center” css_animation=”slideInRight”][/vc_column][/vc_row][vc_row full_width=”stretch_row” css=”.vc_custom_1515964135940{background-color: #64695e !important;}”][vc_column][vc_column_text css_animation=”slideInLeft”]\nBirds have their own completely different world and their own life style observing & understanding which can even take a life time of human life.\nIn this 2 nights 3 days bird watching program we will help you explore the wild trails of Great Himalayan National Park in Sainj valley.\nGreat Himalayan National Park (GHNP) is India’s youngest national park and a UNESCO World Heritage Site located in Kullu district of Himachal Pradesh\, India.\nShanghar is a remote & exotic Himalayan hamlet at an altitude of around 6000 feet ASL situated in Sainj valley in Kullu surrounded by GHNP and is home to beautiful golf ground like natural meadow which belongs to local mythological head (Shangchul Mahadev) hidden & protected from onslaught of regular party tourists.\nCome let us take you into a very special journey showing you the wilderness of an unexplored Himalayan land!\n[/vc_column_text][vc_gallery interval=”3″ images=”6781\,6780\,6779\,6778\,6777\,6776\,6775\,6774\,6773\,6772″ img_size=”large”][/vc_column][/vc_row][vc_row full_width=”stretch_row” css=”.vc_custom_1515964197690{background-color: #ffbd42 !important;}”][vc_column width=”1/3″][info_list_father][info_list_son style=”icon” titleclr=”#000000″ descclr=”#000000″ icon=”fa fa-map-marker” title=”Region” desc=”GHNP ECOZONE\, SAINJ VALLEY\, KULLU\, HIMACHAL PRADESH\, INDIA\, EARTH”][/info_list_father][/vc_column][vc_column width=”1/3″][info_list_father][info_list_son style=”icon” titleclr=”#000000″ descclr=”#000000″ icon=”fa fa-spinner” title=”Duration” desc=”2 NIGHTS & 3 DAYS”][/info_list_father][/vc_column][vc_column width=”1/3″][info_list_father][info_list_son style=”icon” titleclr=”#000000″ descclr=”#000000″ icon=”fa fa-signal” title=”Level” desc=”BEGINNERS FOR TREKKING\, EXPERT FOR BIRD WATCHING”][/info_list_father][/vc_column][vc_column][/vc_column][/vc_row][vc_row full_width=”stretch_row” css=”.vc_custom_1515964329657{background-color: #64695e !important;}”][vc_column][vc_custom_heading text=”DAY BY DAY PLAN” font_container=”tag:h1|text_align:center|color:%23ffbd42″][mvc_timeline_father title=” Day By Day Plan” size=”38″ clr=”#000000″ bgclr=”#ffbd42″][mvc_timeline_son date=”DAY 1″ size=”20″ clr=”#dd9933″ arrowclr=”#ffbd42″ icon=”fa fa-leaf” bgclr=”#ffbd42″]\nDay 1  | Introduction to Great Himalayan National Park\n Arrive in GHNP Ropa complex\, checkin to rooms\n 6 kms easy Walk to Neuli and back\, introduction to birds and ecology of GHNP\n Snacks\, bonfire\, dinner\n Overnight stay in rooms in Ropa\n[/mvc_timeline_son][mvc_timeline_son date=”DAY 2″ clr=”#ffbd42″ arrowclr=”#ffbd42″ icon=”fa fa-leaf” bgclr=”#ffbd42″]\nDay 2 | Go higher in GHNP Ecozone\n Tea/coffee and breakfast at the stay\n Today we hike for 5 kms to Shanghar observing the wildlife and various birds of GHNP\n Reach Shanghar. Guided visit to Shanghar meadow and Shangchul Mahadev temple\n Checkin to luxury homestay rooms\n Snacks\, bonfire dinner\n Overnight Stay in rooms in Shanghar\n[/mvc_timeline_son][mvc_timeline_son date=”Day 3″ clr=”#ffbd42″ arrowclr=”#ffbd42″ icon=”fa fa-leaf” bgclr=”#ffbd42″]\n Day 3| FINAL WALK & RETURN\n Tea/coffee and breakfast at the stay\n Walk of  6 kms to Khastar waterfall and back\n Checkout from home stay after lunch\n Program end here\, start your return journey\n[/mvc_timeline_son][/mvc_timeline_father][/vc_column][/vc_row][vc_row css=”.vc_custom_1555795168007{background-color: #ffbd42 !important;}”][vc_column][vc_separator][vc_custom_heading text=”PACKAGE COSTS & INCLUSIONS APPLICABLE FOR ALL GENDERS AND NATIONALITY”][vc_separator]BEST PER PERSON PACKAGE COST X-SHANGHARFOR THOSE WHO WANT TO BOOK THE PACKAGE WITHOUT TRANSPORTATION\n₹ 6\,000 \nBEST PER PERSON PACKAGE COST X-DELHIFOR THOSE WHO WANT TO BOOK THE PACKAGE INCLUDING TRANSPORTATION FROM DELHI\n₹ 11\,000 \n[vc_message css=”.vc_custom_1577797042860{background-color: #64695e !important;}”]\n✔️INCLUSIONS\n Luxury bus tickets from Delhi to Aut & back\, private taxi from Aut to Shanghar and back for X-Delhi package\n Twin sharing stay in rooms with attached loo and clean bed for 2 nights\n Unlimited veg/non-veg meals as per plan\n A vastly experienced GHNP Expert to guide you for bird watching\n A local certified GHNP guide to manage the program\, local sightseeing\n\n All kind of permits and fees\n Preparation assistance\, exclusive checklists\, specific Adventure Consultant till the end of trip\n GST (taxes)\n Preparation assistance\, exclusive checklists\, on call trip consultant \n Memories and learnings for lifetime\n\n❌EXCLUSIONS\nAnything not mentioned in the inclusions above[/vc_message][/vc_column][/vc_row][vc_row full_width=”stretch_row” parallax=”content-moving” parallax_image=”6777″ css=”.vc_custom_1577798473983{background-color: rgba(255\,255\,255\,0.31) !important;*background-color: rgb(255\,255\,255) !important;}”][vc_column css=”.vc_custom_1516000838434{background-color: rgba(255\,255\,255\,0.31) !important;*background-color: rgb(255\,255\,255) !important;}”]\n	Notice: JavaScript is required for this content.\n\n\n    \n\n\n        \n        \n        [/vc_column][/vc_row]
URL:https://motohimalayas.com/rides/himalayan-bird-watching-february-2020/
LOCATION:GHNP\, Great HImalayan National Park\, Kullu\, Himachal Pradesh\, India
CATEGORIES:FEBRUARY,HIMACHAL PRADESH,REGIONS,SHANGHAR
ATTACH;FMTTYPE=image/jpeg:https://motohimalayas.com/wp-content/uploads/2019/12/GHNP-BIRD-WATCHING.jpg
ORGANIZER;CN="HMRA - TREKS":MAILTO:treks@motohimalayas.com
END:VEVENT
END:VCALENDAR